BEGIN:VCALENDAR
VERSION:2.0
PRODID:-//ALERT Events - ECPv6.15.20//NONSGML v1.0//EN
CALSCALE:GREGORIAN
METHOD:PUBLISH
X-ORIGINAL-URL:https://events.alertacademy.com
X-WR-CALDESC:Events for ALERT Events
REFRESH-INTERVAL;VALUE=DURATION:PT1H
X-Robots-Tag:noindex
X-PUBLISHED-TTL:PT1H
BEGIN:VTIMEZONE
TZID:America/Chicago
BEGIN:DAYLIGHT
TZOFFSETFROM:-0600
TZOFFSETTO:-0500
TZNAME:CDT
DTSTART:20250309T080000
END:DAYLIGHT
BEGIN:STANDARD
TZOFFSETFROM:-0500
TZOFFSETTO:-0600
TZNAME:CST
DTSTART:20251102T070000
END:STANDARD
BEGIN:DAYLIGHT
TZOFFSETFROM:-0600
TZOFFSETTO:-0500
TZNAME:CDT
DTSTART:20260308T080000
END:DAYLIGHT
BEGIN:STANDARD
TZOFFSETFROM:-0500
TZOFFSETTO:-0600
TZNAME:CST
DTSTART:20261101T070000
END:STANDARD
BEGIN:DAYLIGHT
TZOFFSETFROM:-0600
TZOFFSETTO:-0500
TZNAME:CDT
DTSTART:20270314T080000
END:DAYLIGHT
BEGIN:STANDARD
TZOFFSETFROM:-0500
TZOFFSETTO:-0600
TZNAME:CST
DTSTART:20271107T070000
END:STANDARD
END:VTIMEZONE
BEGIN:VEVENT
DTSTART;VALUE=DATE:20260605
DTEND;VALUE=DATE:20260606
DTSTAMP:20260423T175010
CREATED:20160318T020028Z
LAST-MODIFIED:20260107T193937Z
UID:229-1780617600-1780703999@events.alertacademy.com
SUMMARY:ALERT Graduation—Unit 73
DESCRIPTION:After 30 weeks of training\, the ALERT Graduation ceremony is an important milestone in a young man’s life. We hope you’ll join us as we honor the hard work and dedication of our graduates\, and encourage them in their commitment to be “strong to serve!” \nSchedule: \nName Tags are available for pick up at the Front Desk (Admin)\n\n10:30 AM — Optional Brunch\n3:30 PM — Grad’s March Over\n4:00 PM — Graduation Ceremony\n5:30 PM — Graduation Banquet \nPlease note that the Graduation Ceremony & Banquet are essentially the same event; guests will be seated at the banquet tables to enjoy the graduation ceremony with their students\, with dinner served shortly after. \nOnline reservations for this event will close Monday\, June 1 at midnight CST. Lodging and additional meal options are available on the next page. If you have further questions\, please contact us at 903-636-9201. \n 
URL:https://events.alertacademy.com/event/alert-graduation-spring/
LOCATION:International ALERT Academy\, One Academy Blvd\, Big Sandy\, TX\, 75755\, United States
CATEGORIES:ALERT
ATTACH;FMTTYPE=image/png:https://events.alertacademy.com/wp-content/uploads/2019/01/2.png
END:VEVENT
END:VCALENDAR