BEGIN:VCALENDAR
VERSION:2.0
PRODID:-//ALERT Events - ECPv6.15.20//NONSGML v1.0//EN
CALSCALE:GREGORIAN
METHOD:PUBLISH
X-WR-CALNAME:ALERT Events
X-ORIGINAL-URL:https://events.alertacademy.com
X-WR-CALDESC:Events for ALERT Events
REFRESH-INTERVAL;VALUE=DURATION:PT1H
X-Robots-Tag:noindex
X-PUBLISHED-TTL:PT1H
BEGIN:VTIMEZONE
TZID:America/Chicago
BEGIN:DAYLIGHT
TZOFFSETFROM:-0600
TZOFFSETTO:-0500
TZNAME:CDT
DTSTART:20250309T080000
END:DAYLIGHT
BEGIN:STANDARD
TZOFFSETFROM:-0500
TZOFFSETTO:-0600
TZNAME:CST
DTSTART:20251102T070000
END:STANDARD
BEGIN:DAYLIGHT
TZOFFSETFROM:-0600
TZOFFSETTO:-0500
TZNAME:CDT
DTSTART:20260308T080000
END:DAYLIGHT
BEGIN:STANDARD
TZOFFSETFROM:-0500
TZOFFSETTO:-0600
TZNAME:CST
DTSTART:20261101T070000
END:STANDARD
BEGIN:DAYLIGHT
TZOFFSETFROM:-0600
TZOFFSETTO:-0500
TZNAME:CDT
DTSTART:20270314T080000
END:DAYLIGHT
BEGIN:STANDARD
TZOFFSETFROM:-0500
TZOFFSETTO:-0600
TZNAME:CST
DTSTART:20271107T070000
END:STANDARD
END:VTIMEZONE
BEGIN:VEVENT
DTSTART;VALUE=DATE:20261010
DTEND;VALUE=DATE:20261017
DTSTAMP:20260423T202556
CREATED:20160506T230034Z
LAST-MODIFIED:20251027T195409Z
UID:732-1791590400-1792195199@events.alertacademy.com
SUMMARY:Family Camp 2026
DESCRIPTION:AN ADVENTURE FOR THE WHOLE FAMILY.\n\n\n\n\nMeet like-minded families\, enjoy warm friendships\, exciting activities\, and receive spiritual encouragement in the gospel of Jesus Christ. Whether you are seasoned campers or prefer the comforts of home\, we have a spot just for you. We welcome you\, not only as our special guests\, but as family. \n\n\nLodging options are available here. \nS’more Family | Want to bring friends and earn discounts? Registered guests will receive a unique S’more Family Host Code to bring new Family Campers for free! (Please allow a few days for this code to be created and emailed to you.) Visit alertfamilycamp.com/smorefamily for details! \nRegistration is available at alertfamilycamp.com/register. Day rates can be purchased on the phone at 903-636-9201. \nOnline registration closes Friday\, October 2\, 2026.\nPlease note that we cannot welcome unaccompanied minors during Family Camp.
URL:https://events.alertacademy.com/event/family-camp/
LOCATION:International ALERT Academy\, One Academy Blvd\, Big Sandy\, TX\, 75755\, United States
CATEGORIES:Family Camp
ATTACH;FMTTYPE=image/png:https://events.alertacademy.com/wp-content/uploads/2016/05/Untitled-design.png
END:VEVENT
END:VCALENDAR