BEGIN:VCALENDAR
VERSION:2.0
PRODID:-//ALERT Events - ECPv6.15.20//NONSGML v1.0//EN
CALSCALE:GREGORIAN
METHOD:PUBLISH
X-WR-CALNAME:ALERT Events
X-ORIGINAL-URL:https://events.alertacademy.com
X-WR-CALDESC:Events for ALERT Events
REFRESH-INTERVAL;VALUE=DURATION:PT1H
X-Robots-Tag:noindex
X-PUBLISHED-TTL:PT1H
BEGIN:VTIMEZONE
TZID:America/Chicago
BEGIN:DAYLIGHT
TZOFFSETFROM:-0600
TZOFFSETTO:-0500
TZNAME:CDT
DTSTART:20250309T080000
END:DAYLIGHT
BEGIN:STANDARD
TZOFFSETFROM:-0500
TZOFFSETTO:-0600
TZNAME:CST
DTSTART:20251102T070000
END:STANDARD
BEGIN:DAYLIGHT
TZOFFSETFROM:-0600
TZOFFSETTO:-0500
TZNAME:CDT
DTSTART:20260308T080000
END:DAYLIGHT
BEGIN:STANDARD
TZOFFSETFROM:-0500
TZOFFSETTO:-0600
TZNAME:CST
DTSTART:20261101T070000
END:STANDARD
BEGIN:DAYLIGHT
TZOFFSETFROM:-0600
TZOFFSETTO:-0500
TZNAME:CDT
DTSTART:20270314T080000
END:DAYLIGHT
BEGIN:STANDARD
TZOFFSETFROM:-0500
TZOFFSETTO:-0600
TZNAME:CST
DTSTART:20271107T070000
END:STANDARD
END:VTIMEZONE
BEGIN:VEVENT
DTSTART;VALUE=DATE:20260420
DTEND;VALUE=DATE:20260425
DTSTAMP:20260423T145914
CREATED:20250422T164730Z
LAST-MODIFIED:20250901T161602Z
UID:43810-1776643200-1777075199@events.alertacademy.com
SUMMARY:Big Sandy Family Conference 2026
DESCRIPTION:Family Conferences are week-long life-changing family events. Rich fellowship\, inspiring messages\, and hands-on workshops make Family Conference something to look forward to by anyone who has experienced one. Whether making new friendships with other families or rekindling relationships from previous years\, the conference is an annual highlight for many. The conferences are structured to foster spiritual growth as young and old alike are challenged to honor God’s Word in every area of their lives. \nConference Registration\nRegister at familyconferences.org\nOn-Campus Lodging\nReserve lodging \nLodging for the Family Conference opens Monday\, September 1\, 2025. If you’re unable to book your preferred accommodations\, jump on our Family Conference Waiting List. If you have further questions\, feel free to contact us at 903-636-9201 \nMeal Tickets\nMeal tickets are below! Our Campus Kitchen prepares delicious\, made-from-scratch meals for everyone to enjoy. Check out our 2025 Conference Menu here! (Updated Menu to be posted closer to the 2026 Family Conference.) Please note that gluten-free meals are unavailable. To customize your meal reservations\, please call us at 903-636-9201. Online meal reservations close Monday\, April 13 at midnight. 
URL:https://events.alertacademy.com/event/conference/
LOCATION:International ALERT Academy\, One Academy Blvd\, Big Sandy\, TX\, 75755\, United States
CATEGORIES:Family Conference
ATTACH;FMTTYPE=image/jpeg:https://events.alertacademy.com/wp-content/uploads/2018/02/ben-white-1286042.jpg
END:VEVENT
END:VCALENDAR